BEGIN:VCALENDAR
VERSION:2.0
PRODID:-//Department Of Education//47f0d63b-963c-455c-9e6f-cacf3bdbd2db
BEGIN:VTIMEZONE
TZID:Australia/Sydney
TZURL:http://tzurl.org/zoneinfo-outlook/Australia/Sydney
X-LIC-LOCATION:Australia/Sydney
BEGIN:STANDARD
TZOFFSETFROM:+1100
TZOFFSETTO:+1000
TZNAME:AEST
DTSTART:19700405T030000
RRULE:FREQ=YEARLY;BYMONTH=4;BYDAY=1SU
END:STANDARD
BEGIN:DAYLIGHT
TZOFFSETFROM:+1000
TZOFFSETTO:+1100
TZNAME:AEDT
DTSTART:19701004T020000
RRULE:FREQ=YEARLY;BYMONTH=10;BYDAY=1SU
END:DAYLIGHT
END:VTIMEZONE
CALSCALE:GREGORIAN
X-WR-TIMEZONE:Australia/Sydney
BEGIN:VEVENT
DTSTART;VALUE=DATE:20200326
DTEND;VALUE=DATE:20200327
DTSTAMP:20200326T000000Z
UID:d31d918e-a041-49c6-8a63-f455f6554cba
LOCATION:Seymour Centre
SUMMARY;LANGUAGE=en-us:Yr11 Othello
SEQUENCE:0
DESCRIPTION:Yr 11 excursion
END:VEVENT
TRANSP:TRANSPARENT
END:VCALENDAR
