BEGIN:VCALENDAR
VERSION:2.0
PRODID:-//Department Of Education//06168757-fb98-4e32-9d55-fed63b77a0e9
BEGIN:VTIMEZONE
TZID:Australia/Sydney
TZURL:http://tzurl.org/zoneinfo-outlook/Australia/Sydney
X-LIC-LOCATION:Australia/Sydney
BEGIN:STANDARD
TZOFFSETFROM:+1100
TZOFFSETTO:+1000
TZNAME:AEST
DTSTART:19700405T030000
RRULE:FREQ=YEARLY;BYMONTH=4;BYDAY=1SU
END:STANDARD
BEGIN:DAYLIGHT
TZOFFSETFROM:+1000
TZOFFSETTO:+1100
TZNAME:AEDT
DTSTART:19701004T020000
RRULE:FREQ=YEARLY;BYMONTH=10;BYDAY=1SU
END:DAYLIGHT
END:VTIMEZONE
CALSCALE:GREGORIAN
X-WR-TIMEZONE:Australia/Sydney
BEGIN:VEVENT
DTSTART;TZID=Australia/Sydney:20200407T160000
DTEND;TZID=Australia/Sydney:20200407T183000
DTSTAMP:20200407T000000Z
UID:006e53f8-88ff-485b-af06-83fe047172d7
LOCATION:Tempe HS Hall
SUMMARY;LANGUAGE=en-us:Yr7, 11 & 12 Parent Teacher Night
SEQUENCE:0
DESCRIPTION:Yr 7, 11 & 12 Parent Teacher interview night
END:VEVENT
TRANSP:TRANSPARENT
END:VCALENDAR
